BEGIN:VCALENDAR
VERSION:2.0
PRODID:-//TC Au - ECPv6.15.17//NONSGML v1.0//EN
CALSCALE:GREGORIAN
METHOD:PUBLISH
X-WR-CALNAME:TC Au
X-ORIGINAL-URL:https://www.tcau.de
X-WR-CALDESC:Veranstaltungen für TC Au
REFRESH-INTERVAL;VALUE=DURATION:PT1H
X-Robots-Tag:noindex
X-PUBLISHED-TTL:PT1H
BEGIN:VTIMEZONE
TZID:Europe/Berlin
BEGIN:DAYLIGHT
TZOFFSETFROM:+0100
TZOFFSETTO:+0200
TZNAME:CEST
DTSTART:20240331T010000
END:DAYLIGHT
BEGIN:STANDARD
TZOFFSETFROM:+0200
TZOFFSETTO:+0100
TZNAME:CET
DTSTART:20241027T010000
END:STANDARD
BEGIN:DAYLIGHT
TZOFFSETFROM:+0100
TZOFFSETTO:+0200
TZNAME:CEST
DTSTART:20250330T010000
END:DAYLIGHT
BEGIN:STANDARD
TZOFFSETFROM:+0200
TZOFFSETTO:+0100
TZNAME:CET
DTSTART:20251026T010000
END:STANDARD
BEGIN:DAYLIGHT
TZOFFSETFROM:+0100
TZOFFSETTO:+0200
TZNAME:CEST
DTSTART:20260329T010000
END:DAYLIGHT
BEGIN:STANDARD
TZOFFSETFROM:+0200
TZOFFSETTO:+0100
TZNAME:CET
DTSTART:20261025T010000
END:STANDARD
END:VTIMEZONE
BEGIN:VEVENT
DTSTART;TZID=Europe/Berlin:20251016T190000
DTEND;TZID=Europe/Berlin:20251016T210000
DTSTAMP:20260421T155459
CREATED:20250227T151326Z
LAST-MODIFIED:20250916T130522Z
UID:2882-1760641200-1760648400@www.tcau.de
SUMMARY:Mitgliederversammlung 2025
DESCRIPTION:An die \nMitglieder des  \nTennisclubs Au i. d. Hallertau e.V. \n  \nAu i. d. Hallertau\, 16.09.2025 \nMitgliederversammlung 2025 \n\nLiebe Mitglieder\, \nWir laden Sie herzlich zur diesjährigen Mitgliederversammlung ein und freuen uns\, wenn auch Ihre im Verein aktiven Familienangehörigen daran teilnehmen. Diese findet statt am \nDonnerstag\, 16. Oktober 2025\, um 19:00 Uhr \nim Gasthaus „Rosenwirt“ in Au \nDie Einladung wird satzungsgemäß zusätzlich in der Hallertauer Zeitung veröffentlicht.  \nTagesordnung:\n \n1. Begrüßung und Eröffnung \n2. Feststellung der ordnungsgemäßen Einberufung und der\nBeschlussfähigkeit \n3. Genehmigung der Tagesordnung \n4. Jahresrückblick und Jahresabrechnung des Vorstands \n5. Bericht der Kassenprüfer \n6. Entlastung des Vorstands \n7. Anträge der Mitglieder \n8. Verschiedenes \nWir bitten um zahlreiche Teilnahme und weisen darauf hin\, dass die Mitgliederversammlung ohne Rücksicht auf die Zahl der erschienenen Mitglieder beschlussfähig ist (§ 10 der Satzung). \nMit sportlichen Grüßen\n \nDer Vorstand  \nSiegfried Hölldobler\, Renate Gantner\, Inge Rosic\, Nicole Bauer
URL:https://www.tcau.de/event/jahreshauptversammlung-2/
CATEGORIES:Mitgliederversammlung
END:VEVENT
END:VCALENDAR