BEGIN:VCALENDAR
VERSION:2.0
PRODID:-//TC Au - ECPv6.15.17//NONSGML v1.0//EN
CALSCALE:GREGORIAN
METHOD:PUBLISH
X-ORIGINAL-URL:https://www.tcau.de
X-WR-CALDESC:Veranstaltungen für TC Au
REFRESH-INTERVAL;VALUE=DURATION:PT1H
X-Robots-Tag:noindex
X-PUBLISHED-TTL:PT1H
BEGIN:VTIMEZONE
TZID:Europe/Berlin
BEGIN:DAYLIGHT
TZOFFSETFROM:+0100
TZOFFSETTO:+0200
TZNAME:CEST
DTSTART:20240331T010000
END:DAYLIGHT
BEGIN:STANDARD
TZOFFSETFROM:+0200
TZOFFSETTO:+0100
TZNAME:CET
DTSTART:20241027T010000
END:STANDARD
BEGIN:DAYLIGHT
TZOFFSETFROM:+0100
TZOFFSETTO:+0200
TZNAME:CEST
DTSTART:20250330T010000
END:DAYLIGHT
BEGIN:STANDARD
TZOFFSETFROM:+0200
TZOFFSETTO:+0100
TZNAME:CET
DTSTART:20251026T010000
END:STANDARD
BEGIN:DAYLIGHT
TZOFFSETFROM:+0100
TZOFFSETTO:+0200
TZNAME:CEST
DTSTART:20260329T010000
END:DAYLIGHT
BEGIN:STANDARD
TZOFFSETFROM:+0200
TZOFFSETTO:+0100
TZNAME:CET
DTSTART:20261025T010000
END:STANDARD
END:VTIMEZONE
BEGIN:VEVENT
DTSTART;TZID=Europe/Berlin:20250801T080000
DTEND;TZID=Europe/Berlin:20250801T180000
DTSTAMP:20260423T005045
CREATED:20250630T094824Z
LAST-MODIFIED:20250630T101017Z
UID:3473-1754035200-1754071200@www.tcau.de
SUMMARY:Vereinsmeisterschaften 2025 - Jugend
DESCRIPTION:Link zum Anmelden: https://terminplaner4.dfn.de/Lid71lixzKjKUobx \n 
URL:https://www.tcau.de/event/vereinsmeisterschaften-2025/
CATEGORIES:Jugend,Vereinsmeisterschaft
END:VEVENT
BEGIN:VEVENT
DTSTART;TZID=Europe/Berlin:20250804T083000
DTEND;TZID=Europe/Berlin:20250807T120000
DTSTAMP:20260423T005045
CREATED:20250716T160733Z
LAST-MODIFIED:20250716T160733Z
UID:3555-1754296200-1754568000@www.tcau.de
SUMMARY:Tenniscamp Jugend 2025
DESCRIPTION:Anmeldung: https://terminplaner4.dfn.de/Lid71lixzKjKUobx
URL:https://www.tcau.de/event/tenniscamp-jugend-2025/
CATEGORIES:Camp,Jugend
END:VEVENT
BEGIN:VEVENT
DTSTART;TZID=Europe/Berlin:20250821T090000
DTEND;TZID=Europe/Berlin:20250821T120000
DTSTAMP:20260423T005045
CREATED:20250528T173413Z
LAST-MODIFIED:20250528T173413Z
UID:3365-1755766800-1755777600@www.tcau.de
SUMMARY:Ferienspiele
DESCRIPTION:
URL:https://www.tcau.de/event/ferienspiele/
CATEGORIES:Jugend
END:VEVENT
END:VCALENDAR