BEGIN:VCALENDAR
VERSION:2.0
PRODID:-//TC Au - ECPv6.15.17//NONSGML v1.0//EN
CALSCALE:GREGORIAN
METHOD:PUBLISH
X-ORIGINAL-URL:https://www.tcau.de
X-WR-CALDESC:Veranstaltungen für TC Au
REFRESH-INTERVAL;VALUE=DURATION:PT1H
X-Robots-Tag:noindex
X-PUBLISHED-TTL:PT1H
BEGIN:VTIMEZONE
TZID:Europe/Berlin
BEGIN:DAYLIGHT
TZOFFSETFROM:+0100
TZOFFSETTO:+0200
TZNAME:CEST
DTSTART:20240331T010000
END:DAYLIGHT
BEGIN:STANDARD
TZOFFSETFROM:+0200
TZOFFSETTO:+0100
TZNAME:CET
DTSTART:20241027T010000
END:STANDARD
BEGIN:DAYLIGHT
TZOFFSETFROM:+0100
TZOFFSETTO:+0200
TZNAME:CEST
DTSTART:20250330T010000
END:DAYLIGHT
BEGIN:STANDARD
TZOFFSETFROM:+0200
TZOFFSETTO:+0100
TZNAME:CET
DTSTART:20251026T010000
END:STANDARD
BEGIN:DAYLIGHT
TZOFFSETFROM:+0100
TZOFFSETTO:+0200
TZNAME:CEST
DTSTART:20260329T010000
END:DAYLIGHT
BEGIN:STANDARD
TZOFFSETFROM:+0200
TZOFFSETTO:+0100
TZNAME:CET
DTSTART:20261025T010000
END:STANDARD
END:VTIMEZONE
BEGIN:VEVENT
DTSTART;TZID=Europe/Berlin:20250928T093000
DTEND;TZID=Europe/Berlin:20250928T150000
DTSTAMP:20260422T231631
CREATED:20250630T093848Z
LAST-MODIFIED:20250716T154813Z
UID:3470-1759051800-1759071600@www.tcau.de
SUMMARY:5. Holledauer - Jugend-Tenniscup
DESCRIPTION:Anmeldung:  https://terminplaner4.dfn.de/eMBuWv8sEA4WfcPj
URL:https://www.tcau.de/event/5-holledauer-jugend-tenniscup/
CATEGORIES:Holledauer-Jugend-Tenniscup,Jugend
END:VEVENT
END:VCALENDAR